Package: Summix Version: 2.12.0 Command: /home/biocbuild/R/R/bin/R CMD INSTALL Summix StartedAt: 2025-03-31 20:42:33 -0000 (Mon, 31 Mar 2025) EndedAt: 2025-03-31 20:42:46 -0000 (Mon, 31 Mar 2025) EllapsedTime: 12.0 seconds RetCode: 0 Status: OK