Package: Summix Version: 2.12.0 Command: /home/biocbuild/bbs-3.20-bioc/R/bin/R CMD check --install=check:Summix.install-out.txt --library=/home/biocbuild/bbs-3.20-bioc/R/site-library --timings Summix_2.12.0.tar.gz StartedAt: 2025-04-01 02:45:17 -0400 (Tue, 01 Apr 2025) EndedAt: 2025-04-01 02:46:27 -0400 (Tue, 01 Apr 2025) EllapsedTime: 69.1 seconds RetCode: 0 Status: OK CheckDir: Summix.Rcheck Warnings: 0