Package: SummarizedExperiment Version: 1.36.0 Command: chmod a+r SummarizedExperiment -R && F:\biocbuild\bbs-3.20-bioc\R\bin\R.exe CMD build --keep-empty-dirs --no-resave-data SummarizedExperiment StartedAt: 2025-03-31 22:14:38 -0400 (Mon, 31 Mar 2025) EndedAt: 2025-03-31 22:16:13 -0400 (Mon, 31 Mar 2025) EllapsedTime: 95.3 seconds RetCode: 0 Status: OK PackageFile: SummarizedExperiment_1.36.0.tar.gz PackageFileSize: 673.6 KiB