Package: Streamer Version: 1.52.0 Command: /home/biocbuild/R/R/bin/R CMD INSTALL Streamer StartedAt: 2025-03-31 20:16:46 -0000 (Mon, 31 Mar 2025) EndedAt: 2025-03-31 20:17:13 -0000 (Mon, 31 Mar 2025) EllapsedTime: 27.0 seconds RetCode: 0 Status: OK