Package: Streamer Version: 1.52.0 Command: /Library/Frameworks/R.framework/Resources/bin/R CMD INSTALL Streamer StartedAt: 2025-03-31 15:09:34 -0400 (Mon, 31 Mar 2025) EndedAt: 2025-03-31 15:09:55 -0400 (Mon, 31 Mar 2025) EllapsedTime: 21.3 seconds RetCode: 0 Status: OK