Package: Streamer Version: 1.52.0 Command: /Library/Frameworks/R.framework/Resources/bin/R CMD build --keep-empty-dirs --no-resave-data Streamer StartedAt: 2025-03-31 22:24:34 -0400 (Mon, 31 Mar 2025) EndedAt: 2025-03-31 22:25:18 -0400 (Mon, 31 Mar 2025) EllapsedTime: 43.8 seconds RetCode: 0 Status: OK PackageFile: Streamer_1.52.0.tar.gz PackageFileSize: 133.9 KiB