Package: Streamer Version: 1.52.0 Command: /Library/Frameworks/R.framework/Resources/bin/R CMD check --install=check:Streamer.install-out.txt --library=/Library/Frameworks/R.framework/Resources/library --no-vignettes --timings Streamer_1.52.0.tar.gz StartedAt: 2025-04-02 10:30:36 -0400 (Wed, 02 Apr 2025) EndedAt: 2025-04-02 10:31:23 -0400 (Wed, 02 Apr 2025) EllapsedTime: 47.6 seconds RetCode: 0 Status: OK CheckDir: Streamer.Rcheck Warnings: 0