Package: Statial Version: 1.8.0 Command: /home/biocbuild/R/R/bin/R CMD INSTALL Statial StartedAt: 2025-03-31 21:11:08 -0000 (Mon, 31 Mar 2025) EndedAt: 2025-03-31 21:11:09 -0000 (Mon, 31 Mar 2025) EllapsedTime: 1.0 seconds RetCode: 1 Status: ERROR