Package: Statial Version: 1.8.0 Command: rm -rf Statial.buildbin-libdir && mkdir Statial.buildbin-libdir && F:\biocbuild\bbs-3.20-bioc\R\bin\R.exe CMD INSTALL --build --library=Statial.buildbin-libdir Statial_1.8.0.tar.gz StartedAt: 2025-04-01 09:19:46 -0400 (Tue, 01 Apr 2025) EndedAt: 2025-04-01 09:20:24 -0400 (Tue, 01 Apr 2025) EllapsedTime: 37.4 seconds RetCode: 0 Status: OK PackageFile: Statial_1.8.0.zip PackageFileSize: 5.954 MiB