Package: Statial Version: 1.8.0 Command: /home/biocbuild/bbs-3.20-bioc/R/bin/R CMD INSTALL Statial StartedAt: 2025-03-31 16:00:47 -0400 (Mon, 31 Mar 2025) EndedAt: 2025-03-31 16:01:12 -0400 (Mon, 31 Mar 2025) EllapsedTime: 25.6 seconds RetCode: 0 Status: OK