Package: Statial Version: 1.8.0 Command: /home/biocbuild/bbs-3.20-bioc/R/bin/R CMD check --install=check:Statial.install-out.txt --library=/home/biocbuild/bbs-3.20-bioc/R/site-library --timings Statial_1.8.0.tar.gz StartedAt: 2025-04-01 02:41:34 -0400 (Tue, 01 Apr 2025) EndedAt: 2025-04-01 02:57:33 -0400 (Tue, 01 Apr 2025) EllapsedTime: 959.1 seconds RetCode: 0 Status: WARNINGS CheckDir: Statial.Rcheck Warnings: 1