Package: SpotSweeper Version: 1.2.0 Command: /home/biocbuild/R/R/bin/R CMD INSTALL SpotSweeper StartedAt: 2025-03-31 21:02:07 -0000 (Mon, 31 Mar 2025) EndedAt: 2025-03-31 21:02:08 -0000 (Mon, 31 Mar 2025) EllapsedTime: 1.5 seconds RetCode: 1 Status: ERROR