Package: SplicingFactory Version: 1.14.0 Command: chmod a+r SplicingFactory -R && F:\biocbuild\bbs-3.20-bioc\R\bin\R.exe CMD build --keep-empty-dirs --no-resave-data SplicingFactory StartedAt: 2025-03-31 22:07:49 -0400 (Mon, 31 Mar 2025) EndedAt: 2025-03-31 22:08:38 -0400 (Mon, 31 Mar 2025) EllapsedTime: 49.0 seconds RetCode: 0 Status: OK PackageFile: SplicingFactory_1.14.0.tar.gz PackageFileSize: 429.7 KiB