Package: SplicingFactory Version: 1.14.0 Command: rm -rf SplicingFactory.buildbin-libdir && mkdir SplicingFactory.buildbin-libdir && /Users/biocbuild/BBS/utils/build-universal.sh SplicingFactory_1.14.0.tar.gz /Library/Frameworks/R.framework/Resources/bin/R SplicingFactory.buildbin-libdir StartedAt: 2025-04-01 12:50:55 -0400 (Tue, 01 Apr 2025) EndedAt: 2025-04-01 12:51:38 -0400 (Tue, 01 Apr 2025) EllapsedTime: 43.1 seconds RetCode: 0 Status: OK PackageFile: SplicingFactory_1.14.0.tgz PackageFileSize: 828.4 KiB