Package: SpliceWiz Version: 1.8.0 Command: /home/biocbuild/R/R/bin/R CMD INSTALL SpliceWiz StartedAt: 2025-03-31 21:04:49 -0000 (Mon, 31 Mar 2025) EndedAt: 2025-03-31 21:07:15 -0000 (Mon, 31 Mar 2025) EllapsedTime: 145.8 seconds RetCode: 0 Status: OK