Package: SpliceWiz Version: 1.8.0 Command: /home/biocbuild/R/R/bin/R CMD build --keep-empty-dirs --no-resave-data SpliceWiz StartedAt: 2025-04-01 02:54:47 -0000 (Tue, 01 Apr 2025) EndedAt: 2025-04-01 03:01:55 -0000 (Tue, 01 Apr 2025) EllapsedTime: 428.3 seconds RetCode: 0 Status: OK PackageFile: SpliceWiz_1.8.0.tar.gz PackageFileSize: 4.237 MiB