Package: SpliceWiz Version: 1.8.0 Command: F:\biocbuild\bbs-3.20-bioc\R\bin\R.exe CMD INSTALL SpliceWiz StartedAt: 2025-03-31 16:58:19 -0400 (Mon, 31 Mar 2025) EndedAt: 2025-03-31 17:01:33 -0400 (Mon, 31 Mar 2025) EllapsedTime: 193.2 seconds RetCode: 0 Status: OK