Package: SpliceWiz Version: 1.8.0 Command: /Library/Frameworks/R.framework/Resources/bin/R CMD INSTALL SpliceWiz StartedAt: 2025-03-31 16:31:27 -0400 (Mon, 31 Mar 2025) EndedAt: 2025-03-31 16:35:21 -0400 (Mon, 31 Mar 2025) EllapsedTime: 234.6 seconds RetCode: 0 Status: OK