Package: SpliceWiz Version: 1.8.0 Command: /Library/Frameworks/R.framework/Resources/bin/R CMD build --keep-empty-dirs --no-resave-data SpliceWiz StartedAt: 2025-03-31 22:17:57 -0400 (Mon, 31 Mar 2025) EndedAt: 2025-03-31 22:28:23 -0400 (Mon, 31 Mar 2025) EllapsedTime: 625.4 seconds RetCode: 0 Status: OK PackageFile: SpliceWiz_1.8.0.tar.gz PackageFileSize: 4.651 MiB