Package: SpliceWiz Version: 1.8.0 Command: /Library/Frameworks/R.framework/Resources/bin/R CMD INSTALL SpliceWiz StartedAt: 2025-03-31 17:57:28 -0400 (Mon, 31 Mar 2025) EndedAt: 2025-03-31 17:59:23 -0400 (Mon, 31 Mar 2025) EllapsedTime: 115.1 seconds RetCode: 0 Status: OK