Package: SpectraQL Version: 1.0.0 Command: rm -rf SpectraQL.buildbin-libdir && mkdir SpectraQL.buildbin-libdir && F:\biocbuild\bbs-3.20-bioc\R\bin\R.exe CMD INSTALL --build --library=SpectraQL.buildbin-libdir SpectraQL_1.0.0.tar.gz StartedAt: 2025-04-01 09:17:50 -0400 (Tue, 01 Apr 2025) EndedAt: 2025-04-01 09:18:09 -0400 (Tue, 01 Apr 2025) EllapsedTime: 19.3 seconds RetCode: 0 Status: OK PackageFile: SpectraQL_1.0.0.zip PackageFileSize: 378.8 KiB