Package: SpectraQL Version: 1.0.0 Command: /Library/Frameworks/R.framework/Resources/bin/R CMD INSTALL SpectraQL StartedAt: 2025-03-31 15:25:01 -0400 (Mon, 31 Mar 2025) EndedAt: 2025-03-31 15:25:20 -0400 (Mon, 31 Mar 2025) EllapsedTime: 18.3 seconds RetCode: 0 Status: OK