Package: SpectraQL Version: 1.0.0 Command: /Library/Frameworks/R.framework/Resources/bin/R CMD build --keep-empty-dirs --no-resave-data SpectraQL StartedAt: 2025-03-31 22:16:50 -0400 (Mon, 31 Mar 2025) EndedAt: 2025-03-31 22:17:37 -0400 (Mon, 31 Mar 2025) EllapsedTime: 46.7 seconds RetCode: 0 Status: OK PackageFile: SpectraQL_1.0.0.tar.gz PackageFileSize: 402.7 KiB