Package: SpectraQL Version: 1.0.0 Command: /Library/Frameworks/R.framework/Resources/bin/R CMD INSTALL SpectraQL StartedAt: 2025-03-31 15:50:09 -0400 (Mon, 31 Mar 2025) EndedAt: 2025-03-31 15:50:19 -0400 (Mon, 31 Mar 2025) EllapsedTime: 9.8 seconds RetCode: 0 Status: OK