Package: SpectraQL Version: 1.0.0 Command: /Library/Frameworks/R.framework/Resources/bin/R CMD check --install=check:SpectraQL.install-out.txt --library=/Library/Frameworks/R.framework/Resources/library --no-vignettes --timings SpectraQL_1.0.0.tar.gz StartedAt: 2025-04-02 09:51:06 -0400 (Wed, 02 Apr 2025) EndedAt: 2025-04-02 09:52:44 -0400 (Wed, 02 Apr 2025) EllapsedTime: 98.3 seconds RetCode: 0 Status: OK CheckDir: SpectraQL.Rcheck Warnings: 0