Package: SpectraQL Version: 1.0.0 Command: /Library/Frameworks/R.framework/Resources/bin/R CMD build --keep-empty-dirs --no-resave-data SpectraQL StartedAt: 2025-04-01 08:26:16 -0400 (Tue, 01 Apr 2025) EndedAt: 2025-04-01 08:26:43 -0400 (Tue, 01 Apr 2025) EllapsedTime: 27.2 seconds RetCode: 0 Status: OK PackageFile: SpectraQL_1.0.0.tar.gz PackageFileSize: 402.6 KiB