Package: Spectra Version: 1.16.1 Command: /home/biocbuild/R/R/bin/R CMD build --keep-empty-dirs --no-resave-data Spectra StartedAt: 2025-04-01 02:53:54 -0000 (Tue, 01 Apr 2025) EndedAt: 2025-04-01 02:55:03 -0000 (Tue, 01 Apr 2025) EllapsedTime: 69.1 seconds RetCode: 0 Status: OK PackageFile: Spectra_1.16.1.tar.gz PackageFileSize: 1.643 MiB