Package: Spectra Version: 1.16.1 Command: /home/biocbuild/bbs-3.20-bioc/R/bin/R CMD check --install=check:Spectra.install-out.txt --library=/home/biocbuild/bbs-3.20-bioc/R/site-library --timings Spectra_1.16.1.tar.gz StartedAt: 2025-04-01 02:30:34 -0400 (Tue, 01 Apr 2025) EndedAt: 2025-04-01 02:38:43 -0400 (Tue, 01 Apr 2025) EllapsedTime: 489.4 seconds RetCode: 0 Status: OK CheckDir: Spectra.Rcheck Warnings: 0