Package: Spectra Version: 1.16.1 Command: /Library/Frameworks/R.framework/Resources/bin/R CMD check --install=check:Spectra.install-out.txt --library=/Library/Frameworks/R.framework/Resources/library --no-vignettes --timings Spectra_1.16.1.tar.gz StartedAt: 2025-04-01 09:35:18 -0400 (Tue, 01 Apr 2025) EndedAt: 2025-04-01 09:53:04 -0400 (Tue, 01 Apr 2025) EllapsedTime: 1066.7 seconds RetCode: 0 Status: OK CheckDir: Spectra.Rcheck Warnings: 0