Package: Spectra Version: 1.16.1 Command: /Library/Frameworks/R.framework/Resources/bin/R CMD check --install=check:Spectra.install-out.txt --library=/Library/Frameworks/R.framework/Resources/library --no-vignettes --timings Spectra_1.16.1.tar.gz StartedAt: 2025-04-02 09:50:20 -0400 (Wed, 02 Apr 2025) EndedAt: 2025-04-02 10:00:16 -0400 (Wed, 02 Apr 2025) EllapsedTime: 596.4 seconds RetCode: 0 Status: OK CheckDir: Spectra.Rcheck Warnings: 0