Package: Spectra Version: 1.16.1 Command: /Library/Frameworks/R.framework/Resources/bin/R CMD build --keep-empty-dirs --no-resave-data Spectra StartedAt: 2025-04-01 08:25:25 -0400 (Tue, 01 Apr 2025) EndedAt: 2025-04-01 08:26:37 -0400 (Tue, 01 Apr 2025) EllapsedTime: 72.5 seconds RetCode: 0 Status: OK PackageFile: Spectra_1.16.1.tar.gz PackageFileSize: 1.514 MiB