Package: SpatialFeatureExperiment Version: 1.8.6 Command: /Library/Frameworks/R.framework/Resources/bin/R CMD INSTALL SpatialFeatureExperiment StartedAt: 2025-03-31 16:13:05 -0400 (Mon, 31 Mar 2025) EndedAt: 2025-03-31 16:15:17 -0400 (Mon, 31 Mar 2025) EllapsedTime: 132.2 seconds RetCode: 0 Status: OK