Package: SpatialFeatureExperiment Version: 1.8.6 Command: /Library/Frameworks/R.framework/Resources/bin/R CMD check --install=check:SpatialFeatureExperiment.install-out.txt --library=/Library/Frameworks/R.framework/Resources/library --no-vignettes --timings SpatialFeatureExperiment_1.8.6.tar.gz StartedAt: 2025-04-01 09:33:01 -0400 (Tue, 01 Apr 2025) EndedAt: 2025-04-01 10:12:36 -0400 (Tue, 01 Apr 2025) EllapsedTime: 2375.0 seconds RetCode: 0 Status: OK CheckDir: SpatialFeatureExperiment.Rcheck Warnings: 0