Package: SpatialFeatureExperiment Version: 1.8.6 Command: rm -rf SpatialFeatureExperiment.buildbin-libdir && mkdir SpatialFeatureExperiment.buildbin-libdir && /Users/biocbuild/BBS/utils/build-universal.sh SpatialFeatureExperiment_1.8.6.tar.gz /Library/Frameworks/R.framework/Resources/bin/R SpatialFeatureExperiment.buildbin-libdir StartedAt: 2025-04-01 12:49:58 -0400 (Tue, 01 Apr 2025) EndedAt: 2025-04-01 12:52:12 -0400 (Tue, 01 Apr 2025) EllapsedTime: 134.3 seconds RetCode: 0 Status: OK PackageFile: SpatialFeatureExperiment_1.8.6.tgz PackageFileSize: 2.883 MiB