Package: SpatialDecon Version: 1.16.0 Command: /Library/Frameworks/R.framework/Resources/bin/R CMD check --install=check:SpatialDecon.install-out.txt --library=/Library/Frameworks/R.framework/Resources/library --no-vignettes --timings SpatialDecon_1.16.0.tar.gz StartedAt: 2025-04-01 09:31:59 -0400 (Tue, 01 Apr 2025) EndedAt: 2025-04-01 09:55:30 -0400 (Tue, 01 Apr 2025) EllapsedTime: 1411.4 seconds RetCode: 0 Status: OK CheckDir: SpatialDecon.Rcheck Warnings: 0