Package: SpatialDecon Version: 1.16.0 Command: rm -rf SpatialDecon.buildbin-libdir && mkdir SpatialDecon.buildbin-libdir && /Users/biocbuild/BBS/utils/build-universal.sh SpatialDecon_1.16.0.tar.gz /Library/Frameworks/R.framework/Resources/bin/R SpatialDecon.buildbin-libdir StartedAt: 2025-04-01 12:49:50 -0400 (Tue, 01 Apr 2025) EndedAt: 2025-04-01 12:50:45 -0400 (Tue, 01 Apr 2025) EllapsedTime: 54.7 seconds RetCode: 0 Status: OK PackageFile: SpatialDecon_1.16.0.tgz PackageFileSize: 4.29 MiB