Package: SpatialDecon Version: 1.16.0 Command: /Library/Frameworks/R.framework/Resources/bin/R CMD build --keep-empty-dirs --no-resave-data SpatialDecon StartedAt: 2025-04-01 08:20:55 -0400 (Tue, 01 Apr 2025) EndedAt: 2025-04-01 08:23:44 -0400 (Tue, 01 Apr 2025) EllapsedTime: 168.9 seconds RetCode: 0 Status: OK PackageFile: SpatialDecon_1.16.0.tar.gz PackageFileSize: 5.28 MiB