Package: SpatialCPie Version: 1.22.0 Command: /home/biocbuild/R/R/bin/R CMD INSTALL SpatialCPie StartedAt: 2025-03-31 20:43:27 -0000 (Mon, 31 Mar 2025) EndedAt: 2025-03-31 20:43:57 -0000 (Mon, 31 Mar 2025) EllapsedTime: 30.3 seconds RetCode: 0 Status: OK