Package: SpatialCPie Version: 1.22.0 Command: /home/biocbuild/R/R/bin/R CMD build --keep-empty-dirs --no-resave-data SpatialCPie StartedAt: 2025-04-01 02:51:44 -0000 (Tue, 01 Apr 2025) EndedAt: 2025-04-01 02:52:42 -0000 (Tue, 01 Apr 2025) EllapsedTime: 58.0 seconds RetCode: 0 Status: OK PackageFile: SpatialCPie_1.22.0.tar.gz PackageFileSize: 1014 KiB