Package: SpatialCPie Version: 1.22.0 Command: chmod a+r SpatialCPie -R && F:\biocbuild\bbs-3.20-bioc\R\bin\R.exe CMD build --keep-empty-dirs --no-resave-data SpatialCPie StartedAt: 2025-03-31 22:03:58 -0400 (Mon, 31 Mar 2025) EndedAt: 2025-03-31 22:05:10 -0400 (Mon, 31 Mar 2025) EllapsedTime: 71.8 seconds RetCode: 0 Status: OK PackageFile: SpatialCPie_1.22.0.tar.gz PackageFileSize: 1011 KiB