Package: SpatialCPie Version: 1.22.0 Command: /Library/Frameworks/R.framework/Resources/bin/R CMD INSTALL SpatialCPie StartedAt: 2025-03-31 16:37:26 -0400 (Mon, 31 Mar 2025) EndedAt: 2025-03-31 16:37:53 -0400 (Mon, 31 Mar 2025) EllapsedTime: 27.2 seconds RetCode: 0 Status: OK