Package: SparseSignatures Version: 2.16.0 Command: /home/biocbuild/R/R/bin/R CMD INSTALL SparseSignatures StartedAt: 2025-03-31 20:38:26 -0000 (Mon, 31 Mar 2025) EndedAt: 2025-03-31 20:39:13 -0000 (Mon, 31 Mar 2025) EllapsedTime: 47.0 seconds RetCode: 0 Status: OK