Package: SparseSignatures Version: 2.16.0 Command: chmod a+r SparseSignatures -R && F:\biocbuild\bbs-3.20-bioc\R\bin\R.exe CMD build --keep-empty-dirs --no-resave-data SparseSignatures StartedAt: 2025-03-31 22:03:46 -0400 (Mon, 31 Mar 2025) EndedAt: 2025-03-31 22:07:47 -0400 (Mon, 31 Mar 2025) EllapsedTime: 241.7 seconds RetCode: 0 Status: OK PackageFile: SparseSignatures_2.16.0.tar.gz PackageFileSize: 1.375 MiB