Package: Spaniel Version: 1.20.0 Command: chmod a+r Spaniel -R && F:\biocbuild\bbs-3.20-bioc\R\bin\R.exe CMD build --keep-empty-dirs --no-resave-data Spaniel StartedAt: 2025-03-31 22:02:40 -0400 (Mon, 31 Mar 2025) EndedAt: 2025-03-31 22:06:28 -0400 (Mon, 31 Mar 2025) EllapsedTime: 228.2 seconds RetCode: 0 Status: OK PackageFile: Spaniel_1.20.0.tar.gz PackageFileSize: 3.732 MiB