Package: Spaniel Version: 1.20.0 Command: /Library/Frameworks/R.framework/Resources/bin/R CMD check --install=check:Spaniel.install-out.txt --library=/Library/Frameworks/R.framework/Resources/library --no-vignettes --timings Spaniel_1.20.0.tar.gz StartedAt: 2025-04-01 09:29:22 -0400 (Tue, 01 Apr 2025) EndedAt: 2025-04-01 09:38:10 -0400 (Tue, 01 Apr 2025) EllapsedTime: 528.5 seconds RetCode: 0 Status: OK CheckDir: Spaniel.Rcheck Warnings: 0