Package: Spaniel Version: 1.20.0 Command: /Library/Frameworks/R.framework/Resources/bin/R CMD build --keep-empty-dirs --no-resave-data Spaniel StartedAt: 2025-03-31 22:12:18 -0400 (Mon, 31 Mar 2025) EndedAt: 2025-03-31 22:16:50 -0400 (Mon, 31 Mar 2025) EllapsedTime: 271.9 seconds RetCode: 0 Status: OK PackageFile: Spaniel_1.20.0.tar.gz PackageFileSize: 4.459 MiB