Package: SpaceMarkers Version: 1.2.1 Command: /Library/Frameworks/R.framework/Resources/bin/R CMD check --install=check:SpaceMarkers.install-out.txt --library=/Library/Frameworks/R.framework/Resources/library --no-vignettes --timings SpaceMarkers_1.2.1.tar.gz StartedAt: 2025-04-01 09:28:57 -0400 (Tue, 01 Apr 2025) EndedAt: 2025-04-01 09:33:37 -0400 (Tue, 01 Apr 2025) EllapsedTime: 280.4 seconds RetCode: 0 Status: OK CheckDir: SpaceMarkers.Rcheck Warnings: 0