Package: SpaceMarkers Version: 1.2.1 Command: /Library/Frameworks/R.framework/Resources/bin/R CMD build --keep-empty-dirs --no-resave-data SpaceMarkers StartedAt: 2025-03-31 22:11:50 -0400 (Mon, 31 Mar 2025) EndedAt: 2025-03-31 22:14:44 -0400 (Mon, 31 Mar 2025) EllapsedTime: 173.9 seconds RetCode: 0 Status: OK PackageFile: SpaceMarkers_1.2.1.tar.gz PackageFileSize: 3.213 MiB