Package: SpaNorm Version: 1.0.0 Command: /home/biocbuild/R/R/bin/R CMD INSTALL SpaNorm StartedAt: 2025-03-31 21:04:24 -0000 (Mon, 31 Mar 2025) EndedAt: 2025-03-31 21:04:31 -0000 (Mon, 31 Mar 2025) EllapsedTime: 7.2 seconds RetCode: 0 Status: OK