Package: SpaNorm Version: 1.0.0 Command: /home/biocbuild/R/R/bin/R CMD check --install=check:SpaNorm.install-out.txt --library=/home/biocbuild/R/R/site-library --no-vignettes --timings SpaNorm_1.0.0.tar.gz StartedAt: 2025-04-01 10:53:36 -0000 (Tue, 01 Apr 2025) EndedAt: 2025-04-01 10:55:45 -0000 (Tue, 01 Apr 2025) EllapsedTime: 129.2 seconds RetCode: 0 Status: OK CheckDir: SpaNorm.Rcheck Warnings: 0